BEGIN:VCALENDAR
VERSION:2.0
PRODID:-//Common Ground - ECPv6.15.18//NONSGML v1.0//EN
CALSCALE:GREGORIAN
METHOD:PUBLISH
X-ORIGINAL-URL:https://commongroundhelps.org
X-WR-CALDESC:Events for Common Ground
REFRESH-INTERVAL;VALUE=DURATION:PT1H
X-Robots-Tag:noindex
X-PUBLISHED-TTL:PT1H
BEGIN:VTIMEZONE
TZID:America/Detroit
BEGIN:DAYLIGHT
TZOFFSETFROM:-0500
TZOFFSETTO:-0400
TZNAME:EDT
DTSTART:20210314T070000
END:DAYLIGHT
BEGIN:STANDARD
TZOFFSETFROM:-0400
TZOFFSETTO:-0500
TZNAME:EST
DTSTART:20211107T060000
END:STANDARD
BEGIN:DAYLIGHT
TZOFFSETFROM:-0500
TZOFFSETTO:-0400
TZNAME:EDT
DTSTART:20220313T070000
END:DAYLIGHT
BEGIN:STANDARD
TZOFFSETFROM:-0400
TZOFFSETTO:-0500
TZNAME:EST
DTSTART:20221106T060000
END:STANDARD
BEGIN:DAYLIGHT
TZOFFSETFROM:-0500
TZOFFSETTO:-0400
TZNAME:EDT
DTSTART:20230312T070000
END:DAYLIGHT
BEGIN:STANDARD
TZOFFSETFROM:-0400
TZOFFSETTO:-0500
TZNAME:EST
DTSTART:20231105T060000
END:STANDARD
END:VTIMEZONE
BEGIN:VTIMEZONE
TZID:UTC
BEGIN:STANDARD
TZOFFSETFROM:+0000
TZOFFSETTO:+0000
TZNAME:UTC
DTSTART:20180101T000000
END:STANDARD
END:VTIMEZONE
BEGIN:VEVENT
DTSTART;TZID=America/Detroit:20220521T110000
DTEND;TZID=America/Detroit:20220521T150000
DTSTAMP:20260420T043237
CREATED:20230828T185144Z
LAST-MODIFIED:20230828T233240Z
UID:8299-1653130800-1653145200@commongroundhelps.org
SUMMARY:Resources & Information Fair
DESCRIPTION:What every person needs to know about “Resources & Information.”\nJoin us! This fair is to give participants information to help navigate systems and resources to meet their needs. Service providers and Community Resources will have their tables set up to answer questions. Concession foods will be available. \nTo register: \nEMAIL mdelizio@commongroundhelps.org or TEXT 248-515-9285 for the form. \nFor questions\, contact: \nMegan Dennis at mdennis@mediation-omc.org or Marega DeLizio at mdelizio@commongroundhelps.org \nCLICK HERE TO VIEW THE EVENT FLYER
URL:https://commongroundhelps.org/event/resources-information-fair/
LOCATION:Troy Church of the Nazarene\, 6840 Crooks Road\, Troy\, MI\, 48098\, United States
ORGANIZER;CN="Common Ground":MAILTO:development@cghelps.org
END:VEVENT
BEGIN:VEVENT
DTSTART;TZID=America/Detroit:20220503T080000
DTEND;TZID=America/Detroit:20220503T090000
DTSTAMP:20260420T043237
CREATED:20230828T185144Z
LAST-MODIFIED:20250819T044928Z
UID:8298-1651564800-1651568400@commongroundhelps.org
SUMMARY:Legacy of Hope breakfast
DESCRIPTION:
URL:https://commongroundhelps.org/event/legacy-of-hope-breakfast/
CATEGORIES:events
ORGANIZER;CN="Common Ground":MAILTO:development@cghelps.org
END:VEVENT
BEGIN:VEVENT
DTSTART;TZID=America/Detroit:20220226T090000
DTEND;TZID=America/Detroit:20220226T183000
DTSTAMP:20260420T043237
CREATED:20230828T185143Z
LAST-MODIFIED:20250813T190023Z
UID:8295-1645866000-1645900200@commongroundhelps.org
SUMMARY:Facials Against Suicide
DESCRIPTION:The 7th annual Facials Against Suicide event\, on February 26\, 9 a.m. to 6:30 p.m.\, will benefit mental health services at Common Ground.  For more information\, go to the Facials Against Suicide Facebook page.
URL:https://commongroundhelps.org/event/facials-against-suicide-2/
LOCATION:Heavenly Day Spa\, 2675 Lapeer Rd.\, Auburn Hills\, MI\, 48326\, United States
CATEGORIES:events
ATTACH;FMTTYPE=image/jpeg:https://commongroundhelps.org/wp-content/uploads/2023/08/5e238cc0ba5c5.image_-mWDlzW.tmp_.jpg
END:VEVENT
BEGIN:VEVENT
DTSTART;TZID=America/Detroit:20220224T180000
DTEND;TZID=America/Detroit:20220224T210000
DTSTAMP:20260420T043237
CREATED:20230828T185144Z
LAST-MODIFIED:20230828T232050Z
UID:8297-1645725600-1645736400@commongroundhelps.org
SUMMARY:Neiman Marcus 2022 Lunar New Year Event
DESCRIPTION:Proceeds from this runway fashion show charity event will benefit mental health services at Common Ground.  The event\, organized by Neiman Marcus and YAN International\, will feature fashion\, live music\, cocktails\, shopping and more!  For more information and to purchase tickets\, visit the event page.
URL:https://commongroundhelps.org/event/neiman-marcus-2022-lunar-new-year-event/
LOCATION:Somerset Collection\, 2705 West Big Beaver Road\, Troy\, MI\, 48084\, United States
CATEGORIES:events
END:VEVENT
BEGIN:VEVENT
DTSTART;TZID=UTC:20211024T160000
DTEND;TZID=UTC:20211024T190000
DTSTAMP:20260420T043237
CREATED:20230828T185141Z
LAST-MODIFIED:20250819T052949Z
UID:8293-1635091200-1635102000@commongroundhelps.org
SUMMARY:Crisis to Hope Celebration
DESCRIPTION:Join us in celebrating Common Ground’s 50th Anniversary and help us raise funds for our new Behavioral Health Urgent Care program! Enjoy a night of thrill rides\, strolling dinner with drinks\, entertainment and a 50th Anniversary program celebration. \nThe event will take place at M1 Concourse in Pontiac\, Michigan\, on October 24th from 4pm-7pm. \nClick here to purchase you tickets: https://www.eventbrite.com/e/celebration-of-hope-tickets-160207389615
URL:https://commongroundhelps.org/event/crisis-to-hope-celebration/
LOCATION:M1Concourse\, 1 Concourse Dr\, Pontiac\, MI\, 48341\, United States
CATEGORIES:events
END:VEVENT
BEGIN:VEVENT
DTSTART;TZID=UTC:20210911T080000
DTEND;TZID=UTC:20210911T140000
DTSTAMP:20260420T043237
CREATED:20230828T185141Z
LAST-MODIFIED:20250818T194948Z
UID:8292-1631347200-1631368800@commongroundhelps.org
SUMMARY:Ride 2 End Suicide
DESCRIPTION:Join us for the 2021 Ride 2 End Suicide! We have two options for this year’s event.\n  \nVIRTUAL OPTION: \nWe have a VIRTUAL registration option\, so that you can ride along with us\, and support the 2021 Ride from home\, in your neighborhood\, or on your favorite stretch of trail! This year\, many people are experiencing mental distress\, and your support is needed more than ever.  When you choose the VIRTUAL Ride\, you will still receive the event shirt\, and you can also create your own Virtual Team to Ride! \nIN PERSON OPTION: \nIf you choose the in person option\, you will enjoy a ride on the beautiful Macomb Orchard Trail\, and support suicide prevention awareness and crisis intervention in our community. \nThe Ride will start and end at Capital Banquet Center\, located on 31 Mile Road in Washington\, MI. The Ride route is 15 miles out and back on the trail from Washington to Richmond (30 miles total distance). \nFor more information\, visit the website: Ride 2 End Suicide 2021
URL:https://commongroundhelps.org/event/ride-2-end-suicide-2/
CATEGORIES:events
END:VEVENT
BEGIN:VEVENT
DTSTART;TZID=UTC:20210821T123000
DTEND;TZID=UTC:20210821T123000
DTSTAMP:20260420T043237
CREATED:20230828T185141Z
LAST-MODIFIED:20230828T233604Z
UID:8290-1629549000-1629549000@commongroundhelps.org
SUMMARY:Second Annual Steve Parks Golf Outing
DESCRIPTION:Check out the flyer below for this Third-Party Fundraiser – The Second Annual Steve Parks Golf Outing! \nSteve Parks Golf Outing 2021
URL:https://commongroundhelps.org/event/second-annual-steve-parks-golf-outing/
CATEGORIES:events
END:VEVENT
BEGIN:VEVENT
DTSTART;TZID=UTC:20210724T090000
DTEND;TZID=UTC:20210724T113000
DTSTAMP:20260420T043237
CREATED:20230828T185141Z
LAST-MODIFIED:20230828T232428Z
UID:8291-1627117200-1627126200@commongroundhelps.org
SUMMARY:Yoga On The Lawn
DESCRIPTION:Check out this fundraiser with Citizen Yoga Royal Oak and Lume Cannabis Co. at DTE Energy Music Theatre! The event runs from 9-11:30am with yoga and music starting at 10am sharp. Tickets are $15 a pop\, and well-worth your while\, so snag one before they sell out! \nFor more information and to purchase tickets\, click here: https://www.313presents.com/events/detail/yoga-on-the-lawn
URL:https://commongroundhelps.org/event/yoga-on-the-lawn/
CATEGORIES:events
END:VEVENT
BEGIN:VEVENT
DTSTART;TZID=UTC:20210717T073000
DTEND;TZID=UTC:20210717T163000
DTSTAMP:20260420T043237
CREATED:20230828T185142Z
LAST-MODIFIED:20230828T232453Z
UID:8294-1626507000-1626539400@commongroundhelps.org
SUMMARY:1st Annual 58er Ride
DESCRIPTION:See the flyer here for more information! \nClick here to register.
URL:https://commongroundhelps.org/event/1st-annual-58er-ride/
CATEGORIES:events
END:VEVENT
BEGIN:VEVENT
DTSTART;TZID=UTC:20210427T093000
DTEND;TZID=UTC:20210427T130000
DTSTAMP:20260420T043237
CREATED:20230828T185127Z
LAST-MODIFIED:20230828T233731Z
UID:8288-1619515800-1619528400@commongroundhelps.org
SUMMARY:Community Drive-Thru Resource Fair
DESCRIPTION:Join us for the Oakland Community Health Network’s Community Resource Drive-Thru Resource event on Tuesday\, April 27th\, 2021 from 10am to 1pm.There are four convenient locations throughout Oakland County: \n\n\n\n\nResource and Crisis Center\n1200 N. Telegraph Rd\n32 East\, Pontiac\, MI 48341\nCNS Healthcare\n24230 Karim Blvd\nNovi\, MI 48375\n\n\nEasterseals Michigan\n22170 W. Nine Mile Rd\nSouthfield\, MI 48033\nTraining & Treatment Innovations\n1450 S. Lapeer Rd\nOxford\, MI 48371\n\n\n\nView the flyer here for more information: Resource-Fair-4-27-21
URL:https://commongroundhelps.org/event/community-drive-thru-resource-fair/
CATEGORIES:events
END:VEVENT
BEGIN:VEVENT
DTSTART;TZID=UTC:20210420T080000
DTEND;TZID=UTC:20210420T170000
DTSTAMP:20260420T043237
CREATED:20230828T185127Z
LAST-MODIFIED:20230828T185407Z
UID:8289-1618905600-1618938000@commongroundhelps.org
SUMMARY:Crains Detroit: "Common Ground to launch behavioral health urgent care program\, site"
DESCRIPTION:“There are urgent care locations around every corner in Metro Detroit for those with physical health issues.\nBut people with mental health and substance use issues have only hospital emergency rooms to turn to when they can’t get in to see their doctor\, run out of medication and/or face other issues. \nCommon Ground is looking to change that with a new behavioral health urgent care program. \nThe Pontiac-based nonprofit on Tuesday morning is set to announce $1.2 million campaign to fund startup costs for the program to give those with lower acuity issues such as depression\, anxiety or substance use an alternative to visiting hospital emergency rooms or going it alone. \n“We’re trying to give alternatives to the ER before things get so bad that it becomes a life or death situation for folks\,” Common Ground President and CEO Heather Rae said.”That’s the sweet spot for these urgent cares.” \n“What we’re seeing now is (for) people who can’t get into their doctor to renew their prescription and have gone a couple of days without meds\, things are starting to get worse\,” she said.” \nContinue reading the story here (Premium Article). \nSherri Welch\nCrain’s Detroit Business
URL:https://commongroundhelps.org/event/crains-detroit-common-ground-to-launch-behavioral-health-urgent-care-program-site/
END:VEVENT
BEGIN:VEVENT
DTSTART;TZID=UTC:20210222T130000
DTEND;TZID=UTC:20210222T170000
DTSTAMP:20260420T043237
CREATED:20230828T185127Z
LAST-MODIFIED:20250819T054747Z
UID:8287-1613998800-1614013200@commongroundhelps.org
SUMMARY:Pontiac Community Resource and COVID-19 Testing Event
DESCRIPTION:Join us at All Saints’ Episcopal Church on Monday\, February 22\, for the Pontiac Community Resource and COVID-19 Testing Event. Organizations throughout Metro Detroit have come together to provide relief and resources for the community. The Wayne Health Mobile Unit will be providing COVID-19 testing\, health screenings and vital health care resources for you and your family members. \n\nCOVID-19 testing\, blood pressure screening\, HIV screening\, linkage to other vital health care resources from Wayne Health\nWarm Weather Care Kits from Molina Healthcare of Michigan\nTherapeutic art kits from PCAC (Pontiac Creative Arts Center)\nGently used items from PK Kids (from pregnant moms’ clothes to car seats\, bassinets\, potty\, breast pumps\, baby clothes\, etc.)\nFood Boxes from Gleaners Community Food Bank\nMental health information and resources from Common Ground\n\nTake advantage of the resources available while listening to our live DJ playing hits from Mix 92.3 Detroit! \nView the flyer here for more details.
URL:https://commongroundhelps.org/event/pontiac-community-resource-and-covid-19-testing-event/
CATEGORIES:events
END:VEVENT
BEGIN:VEVENT
DTSTART;TZID=UTC:20210128T180000
DTEND;TZID=UTC:20210128T190000
DTSTAMP:20260420T043237
CREATED:20230828T185127Z
LAST-MODIFIED:20231017T145841Z
UID:8286-1611856800-1611860400@commongroundhelps.org
SUMMARY:Let's Get Real: Human Trafficking Virtual Community Panel
DESCRIPTION:Join our Let’s Get Real panelists for an evening of education and open community conversation about modernhuman trafficking: what it is and is not\, whose at risk of being trafficked\, the incidence of human trafficking in our local area\, and how we can all be a part of the solution. \nAll local residents age 13+ are encouraged to attend this free event. \nPANELISTS\nDeb Ellinger\, Elli’s House\nMay Freck\, Common Ground\nSarah Pettey\, Homeland Security Investigations\nBrigette Robarge\, YaNay Freedom Services \nJANUARY 28TH\, 2021 FROM 6:OO-7:30PM \nView the flyer here for more information: Human-Trafficking-Event.pdf
URL:https://commongroundhelps.org/event/lets-get-real-human-trafficking-virtual-community-panel/
CATEGORIES:events
END:VEVENT
BEGIN:VEVENT
DTSTART;TZID=UTC:20210107T080000
DTEND;TZID=UTC:20210311T170000
DTSTAMP:20260420T043237
CREATED:20230828T185125Z
LAST-MODIFIED:20230828T234253Z
UID:8281-1610006400-1615482000@commongroundhelps.org
SUMMARY:Domestic Violence Support Group - Virtual
DESCRIPTION:This is a 10-week open support group for women ages 18 and older\, with similar experiences to connect\, gain support\, and become empowered in a safe environment.\nThursdays beginning January 7th\, 2021– March 11th\, 2021\nTime: 6:00 PM – 8:00 PM\nWhere: Group will be held virtually via Zoom \nSpace is limited! Please contact Liala Reece at (248) 451-2621 or lreece@cghelps.org to register\nor obtain information if you or a friend are interested. \n*There is no charge for this group* \nPlease view the flyer here for more information: DV-Support-Group_Winter-2021
URL:https://commongroundhelps.org/event/domestic-violence-support-group-virtual/
CATEGORIES:events
END:VEVENT
BEGIN:VEVENT
DTSTART;TZID=UTC:20210104T183000
DTEND;TZID=UTC:20210308T203000
DTSTAMP:20260420T043237
CREATED:20230828T185125Z
LAST-MODIFIED:20250819T053953Z
UID:8283-1609785000-1615235400@commongroundhelps.org
SUMMARY:Growth and Healing Group - Virtual
DESCRIPTION:Come meet other girls with similar experiences\, make friends\, heal and become empowered in a safe environment!\nThis 10-week empowerment group is open to girls between the ages of 13 and 19 who have experienced sexual abuse\, childhood sexual abuse\, date rape or incest. \nMondays\, 4:00pm-6:00pm Next Group Starts January 4th\, 2021 Via Zoom \nSpace is limited! \nPlease contact Autumn Ameye at 248-451-2623 to register or obtain information if you or a friend is interested. \n*There is NO CHARGE for this group* \nView more information on the flyer here: growthandhealingupdated-1.pdf
URL:https://commongroundhelps.org/event/growth-and-healing-group-virtual/
CATEGORIES:events
END:VEVENT
BEGIN:VEVENT
DTSTART;TZID=UTC:20201210T170000
DTEND;TZID=UTC:20201210T180000
DTSTAMP:20260420T043237
CREATED:20230828T185127Z
LAST-MODIFIED:20250819T051924Z
UID:8285-1607619600-1607623200@commongroundhelps.org
SUMMARY:Talking About Youth Homelessness in Southeastern Michigan
DESCRIPTION:Youth homelessness is a serious problem in southeast Michigan that affects an untold number of people\, ranging from the youth themselves to their parents and family members to the community at large. Join us for a discussion about what it’s like to be a homeless youth in our local area\, including a Q&A session and resources. For more information\, including any problems with registering\, contact May Freck at 248-515-8515 or mfreck@cghelps.org. \nDECEMBER 10TH\, 5PM-6PM \nJoin us via Zoom. Go to https://tinyurl.com/cgylcpanel to register \nView the flyer here for more information.
URL:https://commongroundhelps.org/event/talking-about-youth-homelessness-in-southeastern-michigan/
CATEGORIES:events
END:VEVENT
BEGIN:VEVENT
DTSTART;TZID=UTC:20201209T183000
DTEND;TZID=UTC:20210217T210000
DTSTAMP:20260420T043237
CREATED:20230828T185125Z
LAST-MODIFIED:20230828T234553Z
UID:8282-1607538600-1613595600@commongroundhelps.org
SUMMARY:Survivors of Homicide Loss Support Group - Virtual
DESCRIPTION:Ten session group with structured topics and guest speakers to provide support to those facing the loss of a loved one due to homicide.\nNew group meets Dec 9\, 2020. The group will meet every Wednesday from 6:30pm-8:30pm. \nThis group is free and will be virtual! \nFor more information please visit the flyer here: Flyer-for-Support-Group-ZOOM-December-9-2020-1.pdf
URL:https://commongroundhelps.org/event/survivors-of-homicide-loss-support-group-virtual/
CATEGORIES:events
END:VEVENT
BEGIN:VEVENT
DTSTART;TZID=UTC:20201121T100000
DTEND;TZID=UTC:20201121T160000
DTSTAMP:20260420T043237
CREATED:20230828T185125Z
LAST-MODIFIED:20230828T234629Z
UID:8284-1605952800-1605974400@commongroundhelps.org
SUMMARY:Survivors of Suicide Loss Day - Virtual
DESCRIPTION:International Survivors of Suicide Loss Day is an event in which survivors of suicide loss come together to find connection\, understanding\, and hope through their shared experience. Due to current restrictions and concerns regarding Covid-10 we will not be hosting any in person ISOSL Day events in Michigan. We will instead offer two virtual events (A.M and P.M sessions). We have transitioned this AFSP signature event\, into what we are confident will be an engaging online experience\, in which you will be able to connect with other loss survivors. We look forward to spending this beautiful and healing day with you. More details coming soon. Please register today to reserve your spot: isosld.afsp.org/misurvivordaymorning \nPlease visit the Facebook event here for more information on the morning session: https://www.facebook.com/events/2716032238726360 \nPlease visit the Facebook event here for more information on the afternoon session: https://www.facebook.com/events/634863160560767 
URL:https://commongroundhelps.org/event/survivors-of-suicide-loss-day-virtual/
CATEGORIES:events
END:VEVENT
BEGIN:VEVENT
DTSTART;TZID=UTC:20201021T183000
DTEND;TZID=UTC:20201021T203000
DTSTAMP:20260420T043237
CREATED:20230828T185125Z
LAST-MODIFIED:20230828T234701Z
UID:8280-1603305000-1603312200@commongroundhelps.org
SUMMARY:Survivors of Homicide Victims' Support Group
DESCRIPTION:What:  Ten Session group with structured topics and guest speakers to provide support to those facing the loss of a loved one due to homicide. This is a closed group after the second session so prior registration is helpful to ensure cohesiveness. \nWhen: New Group begins October 21\, 2020\nGroup meets every Wednesday\n6:30pm to 8:30pm \nWhere: Common Ground\nMeeting virtually via ZOOM \nCost:  Free \nRegister: Please call to register as space is limited\nFor registration and/or questions\, please contact Vivian Steinhilper\, Victim Advocate at\n248-451-2622 or vsteinhilper@cghelps.org
URL:https://commongroundhelps.org/event/survivors-of-homicide-victims-support-group/
END:VEVENT
BEGIN:VEVENT
DTSTART;TZID=UTC:20201021T160000
DTEND;TZID=UTC:20201021T180000
DTSTAMP:20260420T043237
CREATED:20230828T185111Z
LAST-MODIFIED:20230828T234803Z
UID:8279-1603296000-1603303200@commongroundhelps.org
SUMMARY:Growth and Healing Group
DESCRIPTION:Come meet other girls with similar experiences\, make friends\, heal\, and become empowered in a safe environment!\nThis 10 week empowerment group is open to girls between the ages of 13 and 19 who have experienced sexual abuse\, childhood sexual abuse\, date rape\, or incest. \nStart Date:\nOctober 21\, 2020 \nDay and Time:\nWednesdays\, 4:00pm to 6:00pm \nLocation:\n1410 S. Telegraph Rd\nBloomfield Hills\, MI 48302 \nSpace is limited! Please contact Autumn Ameye at 248-451-2623 to register or obtain information if you or a friend is interested. \nThere is no charge for this group
URL:https://commongroundhelps.org/event/growth-and-healing-group/
END:VEVENT
BEGIN:VEVENT
DTSTART;TZID=UTC:20200926T100000
DTEND;TZID=UTC:20200926T170000
DTSTAMP:20260420T043237
CREATED:20230828T185111Z
LAST-MODIFIED:20230828T235004Z
UID:8277-1601114400-1601139600@commongroundhelps.org
SUMMARY:MIExperience - AFSP
DESCRIPTION:Make sure to join us for this groundbreaking event!We will all unite together for the MIExperience on September 26th\, to form one large collective voice for change! This event will be like nothing you have ever seen before and we cannot wait to share this experience with you! \nRegister today at: afsp.org/MIExperience and stay tuned for more details!\nWhat will your experience be? \n#AFSPMIExperience #TogetherToFightSuicide See Less \nNote: This event will take place virtually! \nClick the link for more information: https://www.facebook.com/events/740799516486399?acontext=%7B%22event_action_history%22%3A[%7B%22mechanism%22%3A%22search_results%22%2C%22surface%22%3A%22search%22%7D]%7D
URL:https://commongroundhelps.org/event/miexperience-afsp/
CATEGORIES:events
END:VEVENT
BEGIN:VEVENT
DTSTART;TZID=UTC:20200831T120000
DTEND;TZID=UTC:20200831T140000
DTSTAMP:20260420T043237
CREATED:20230828T185111Z
LAST-MODIFIED:20230828T235133Z
UID:8278-1598875200-1598882400@commongroundhelps.org
SUMMARY:Community Resource Drive Thru Fair
DESCRIPTION:Please visit the link below to access the flyer with details. \nCommunity-resource-day-2020.pdf
URL:https://commongroundhelps.org/event/community-resource-drive-thru-fair/
END:VEVENT
BEGIN:VEVENT
DTSTART;TZID=UTC:20200323T190000
DTEND;TZID=UTC:20200323T210000
DTSTAMP:20260420T043237
CREATED:20230828T185111Z
LAST-MODIFIED:20250819T060130Z
UID:8276-1584990000-1584997200@commongroundhelps.org
SUMMARY:Resource and Crisis Helpline Volunteer Screenings CANCELLED
DESCRIPTION:Upcoming Date: March 23rd\, 2020\, 7PM-9PM \nAll screenings take place at the Resource and Crisis Center\, see address below. \nResource and Crisis Center \n1200 Telegraph Rd\, Bldg. 32E \nPontiac\, MI 48341 \nThe screening is the 2 hour group interview for those looking to be accepted into the Resource and Crisis Helpline Training. \nPotential volunteers must fill out the volunteer application. Potential volunteers and bring the application with them or fill it out online here: Volunteer
URL:https://commongroundhelps.org/event/resource-and-crisis-helpline-volunteer-screenings-cancelled/
LOCATION:resource and crisis center\, 1200 Telegraph Rd\, Waterford\, MI\, 48327\, United States
CATEGORIES:events
END:VEVENT
BEGIN:VEVENT
DTSTART;TZID=UTC:20200316T190000
DTEND;TZID=UTC:20200420T190000
DTSTAMP:20260420T043237
CREATED:20230828T185109Z
LAST-MODIFIED:20230828T185425Z
UID:8272-1584385200-1587409200@commongroundhelps.org
SUMMARY:Survivors of Suicide Loss Support Group CANCELLED
DESCRIPTION:This support group meets on the 1st & 3rd Monday of the month. Support group will not be held on holidays.\nDates: 3/16\, 4/6\, 4/20 \nTime:\n7:00pm – 9:00pm \nLocation:\nResource and Crisis Center\n1200 N. Telegraph Rd.\nBuilding 32E\nPontiac MI\, 48341 \nAbout:\n– Outreach\, support and information provided to those who have lost a loved one to suicide\n– Comfort\, strength and hope in an open group setting with fellow survivors and trained peer facilitators\n– No cost for attendees\n– Mature material; children welcome \nFor more information or to register\, contact the Resource and Crisis Helpline at 1.800.231.1127. \nIf you’re experiencing a crisis\, please reach out to our 24-hour Crisis Telephone & Text Line number at 800-231-1127\, or visit our 24-hour Crisis Chat Line at commongroundhelps.org.
URL:https://commongroundhelps.org/event/survivors-of-suicide-loss-support-group-cancelled/
CATEGORIES:events
END:VEVENT
BEGIN:VEVENT
DTSTART;TZID=UTC:20200311T190000
DTEND;TZID=UTC:20200401T190000
DTSTAMP:20260420T043237
CREATED:20230828T185109Z
LAST-MODIFIED:20230828T185425Z
UID:8273-1583953200-1585767600@commongroundhelps.org
SUMMARY:Survivors of Homicide Victims' Support Group CANCELLED
DESCRIPTION:What: Ten session group with structured topics and guest speakers to provide support to those facing the loss of a loved one due to homicide. This is a closed group after the second session\, so prior registration is helpful to ensure cohesiveness.\nWhen: New group begins on January 29\, 2020. Group meets every Wednesday from 7pm-9pm. \nWhere: Common Ground \n1410 S. Telegraph Rd (north of Square Lake Road) \nBloomfield Hills\, MI 48302 \nCost: Free \nRegister: Please call to register as space is limited. For registration and/or questions please contact Vivian Steinhilper\, Victim Advocate at 248-451-2622 or vsteinhilper@cghelps.org.
URL:https://commongroundhelps.org/event/survivors-of-homicide-victims-support-group-cancelled/
CATEGORIES:events
END:VEVENT
BEGIN:VEVENT
DTSTART;TZID=UTC:20200222T090000
DTEND;TZID=UTC:20200223T020000
DTSTAMP:20260420T043237
CREATED:20230828T185109Z
LAST-MODIFIED:20230828T185425Z
UID:8271-1582362000-1582423200@commongroundhelps.org
SUMMARY:Facials Against Suicide
DESCRIPTION:Facials against suicide is an annual fundraiser that focuses on raising funds for suicide prevention and awareness programs through Common Ground. Join us for a good cause!\nFebruary 22nd\, 9am – February 23rd\, 2am \nHeavenly Day Spa\n2675 Lapeer Rd.\, Auburn Hills\, MI 48346 \nSchedule:\nMain event = 9am-6:30pm\nGuest speakers and candle vigil = 7pm-8pm\nHoops Bar and Grill for DJ/Kareoke – food and raffle winners = 8pm-2am
URL:https://commongroundhelps.org/event/facials-against-suicide/
END:VEVENT
BEGIN:VEVENT
DTSTART;TZID=UTC:20200121T190000
DTEND;TZID=UTC:20200121T210000
DTSTAMP:20260420T043237
CREATED:20230828T185109Z
LAST-MODIFIED:20250819T053534Z
UID:8274-1579633200-1579640400@commongroundhelps.org
SUMMARY:Volunteer Screening
DESCRIPTION:January 21st\, 2020\, 7PM-9PM\, at the Resource and Crisis Center in Pontiac\, Michigan.\nResource and Crisis Center \n1200 Telegraph Rd\, Bldg. 32E \nPontiac\, MI 48341 \nThe screening is the 2 hour group interview for those looking to be accepted into the Resource and Crisis Helpline Training which will begin on February 13th. \nPotential volunteers must fill out the volunteer application. Potential volunteers and bring the application with them or fill it out online here: Volunteer
URL:https://commongroundhelps.org/event/volunteer-screening-2/
CATEGORIES:events
END:VEVENT
BEGIN:VEVENT
DTSTART;TZID=UTC:20200116T180000
DTEND;TZID=UTC:20200116T203000
DTSTAMP:20260420T043237
CREATED:20230828T185111Z
LAST-MODIFIED:20250818T200955Z
UID:8275-1579197600-1579206600@commongroundhelps.org
SUMMARY:Getting Beyond the Symptoms and Diagnosis - Presentation for Professionals and Families
DESCRIPTION:See the flyer below for more information and details.\nBrain-Balance-Presentation-1-16-2020-Flyer.pdf \nMust RSVP to attend this presentation by Brain Balance Achievement Centers! RSVP to Marega DeLizio at 248.515.2985 or MDeLizio@cghelps.org.
URL:https://commongroundhelps.org/event/getting-beyond-the-symptoms-and-diagnosis-presentation-for-professionals-and-families/
CATEGORIES:events
END:VEVENT
BEGIN:VEVENT
DTSTART;TZID=UTC:20191216T190000
DTEND;TZID=UTC:20191216T210000
DTSTAMP:20260420T043237
CREATED:20230828T185053Z
LAST-MODIFIED:20250819T060208Z
UID:8262-1576522800-1576530000@commongroundhelps.org
SUMMARY:Survivors of Suicide Loss Support Group
DESCRIPTION:This support group meets on the 1st & 3rd Monday of the month. Support group will not be held on holidays.\nDates: 12/16 (the 12/2 group is cancelled\, apologies for the inconvenience) \nTime:\n7:00pm – 9:00pm \nLocation:\nResource and Crisis Center\n1200 N. Telegraph Rd.\nBuilding 32E\nPontiac MI\, 48341 \nAbout:\n– Outreach\, support and information provided to those who have lost a loved one to suicide\n– Comfort\, strength and hope in an open group setting with fellow survivors and trained peer facilitators\n– No cost for attendees\n– Mature material; children welcome \nFor more information or to register\, contact the Resource and Crisis Helpline at 1.800.231.1127. \nIf you’re experiencing a crisis\, please reach out to our 24-hour Crisis Telephone & Text Line number at 800-231-1127\, or visit our 24-hour Crisis Chat Line at commongroundhelps.org. \nVisit our FB event for more details: https://www.facebook.com/events/2398857196823953/
URL:https://commongroundhelps.org/event/survivors-of-suicide-loss-support-group-2/
LOCATION:resource and crisis center\, 1200 Telegraph Rd\, Waterford\, MI\, 48327\, United States
CATEGORIES:events
END:VEVENT
BEGIN:VEVENT
DTSTART;TZID=UTC:20191211T180000
DTEND;TZID=UTC:20191211T190000
DTSTAMP:20260420T043237
CREATED:20230828T185038Z
LAST-MODIFIED:20230828T185425Z
UID:8254-1576087200-1576090800@commongroundhelps.org
SUMMARY:Crisis To Hope
DESCRIPTION:Take a closer look at the many life-changing programs & services Common Ground offers to the community\, through stories and testimonials.\nThis informative and inspirational program will be the best hour of your day! \nWednesday\, December 11th 6pm-7pm \nIn the Oakland County Government Campus\nResource & Crisis Center\n1200 N. Telegraph Rd. Building 32 East\nRoom 316/317\nPontiac\, MI 48341 \nTo register\, contact Vickie Kennedy 248-451-3734 or vkennedy@commongroundhelps.org.
URL:https://commongroundhelps.org/event/crisis-to-hope/
CATEGORIES:events
END:VEVENT
END:VCALENDAR