BEGIN:VCALENDAR
VERSION:2.0
PRODID:-//Common Ground - ECPv6.15.18//NONSGML v1.0//EN
CALSCALE:GREGORIAN
METHOD:PUBLISH
X-WR-CALNAME:Common Ground
X-ORIGINAL-URL:https://commongroundhelps.org
X-WR-CALDESC:Events for Common Ground
REFRESH-INTERVAL;VALUE=DURATION:PT1H
X-Robots-Tag:noindex
X-PUBLISHED-TTL:PT1H
BEGIN:VTIMEZONE
TZID:UTC
BEGIN:STANDARD
TZOFFSETFROM:+0000
TZOFFSETTO:+0000
TZNAME:UTC
DTSTART:20170101T000000
END:STANDARD
END:VTIMEZONE
BEGIN:VEVENT
DTSTART;VALUE=DATE:20190914
DTEND;VALUE=DATE:20190915
DTSTAMP:20260422T081149
CREATED:20230828T185055Z
LAST-MODIFIED:20230829T001222Z
UID:8268-1568419200-1568505599@commongroundhelps.org
SUMMARY:Free Narcan (Naloxene) Day
DESCRIPTION:To find participating pharmacies\, visit michigan.gov.opiods \nView the flyer here for more information.
URL:https://commongroundhelps.org/event/free-narcan-naloxene-day/
CATEGORIES:events
END:VEVENT
BEGIN:VEVENT
DTSTART;TZID=UTC:20190913T190000
DTEND;TZID=UTC:20190913T210000
DTSTAMP:20260422T081149
CREATED:20230828T185053Z
LAST-MODIFIED:20250818T202517Z
UID:8260-1568401200-1568408400@commongroundhelps.org
SUMMARY:An Evening of Laughs - A Fundraiser for Common Ground (Night 2)
DESCRIPTION:Common Ground is a 24-hour crisis services agency that has been helping people in need for over 45 years. Dedicated to helping runaway and homeless youth\, victims of crime\, people with mental illness\, adults\, and others in critical situations\, Common Ground has been a lifeline for Oakland and Genesee County residents.\nMetro Detroit lmprov is a group of local improv actors who hail from all over Southeast Michigan\, who enjoy performing short form improv and making others laugh! \nTickets are $15 and approximately 75% of ticket proceeds will be donated directly to Common Ground. \nTickets must be purchased in advance as seats are limited! \nPayment methods:\n⇒ Paypal: paypal.me/MetroDetroitlmprov\n⇒ Google Pay: metrodetroitimprov@gmail.com \nSend us an email to verify availability of tickets for both show dates! If you cannot attend the performance but wish to make a donation to Common Ground\, you can donate using either meth­od above\, be sure to indicate you are donating only and not at­tending. \nTime/Location:\nFriday\, September 13th\n7:00 PM\nUnity of Royal Oak\n2500 Crooks Road\,\nRoyal Oak\, MI 48073 \nP.S.\nIf you cannot make it\, there is a second show that will be playing in Ann Arbor\, see details below.\nTime/Location:\nSunday\, August 4th\n5:00 PM\nAt Space 2435 on University of Michigan’s North Quad campus in Ann Arbor\n(Space 2435 provided courtesy of North Quad Programming) \nView the Facebook event for more details
URL:https://commongroundhelps.org/event/an-evening-of-laughs-a-fundraiser-for-common-ground-night-2/
LOCATION:Unity of Royal Oak\, 2500 Crooks Road\, Royal Oak\, 48073
CATEGORIES:events
ORGANIZER;CN="Metro Detroit Improv":MAILTO:metrodetroitimprov@gmail.com
END:VEVENT
BEGIN:VEVENT
DTSTART;TZID=UTC:20190910T183000
DTEND;TZID=UTC:20190910T203000
DTSTAMP:20260422T081149
CREATED:20230828T185038Z
LAST-MODIFIED:20230828T185440Z
UID:8253-1568140200-1568147400@commongroundhelps.org
SUMMARY:RCH Volunteer Screening Dates
DESCRIPTION:Have you ever wanted to help make a difference – to be the one – but didn’t know how? We’ve been looking for you! We are currently seeking amazing people like yourself to volunteer on Common Ground’s Resource and Crisis Helpline assisting others move from Crisis to Hope via phone\, chat and text.\n\n\nHere are the following screening dates:\n\n\nTuesday\, September 10th\, 6:30pm-8:30pm\n\n\nThe screening will take place at\n1200 Telegraph Rd\nBuilding 32E\nPontiac\, MI 48341\n\n\nFor more information visit commongroundhelps.org or e-mail Melissa Bowman at mbowman@cghelps.org.
URL:https://commongroundhelps.org/event/rch-volunteer-screening-dates-4/
CATEGORIES:events
END:VEVENT
BEGIN:VEVENT
DTSTART;TZID=UTC:20190907T080000
DTEND;TZID=UTC:20190907T140000
DTSTAMP:20260422T081149
CREATED:20230828T185053Z
LAST-MODIFIED:20250819T055625Z
UID:8263-1567843200-1567864800@commongroundhelps.org
SUMMARY:Ride 2 End Suicide
DESCRIPTION:Are you looking to participate in a bike ride and fundraiser lunch for a good cause? Join us on September 7\, 2019 for the 4th annual RIDE 2 END SUICIDE. Enjoy a ride on the Macomb Orchard Trail\, and support suicide prevention awareness and crisis intervention in our community. Proceeds from the bike ride\, lunch and raffle will support two local organizations: KnowResolve and Common Ground. This is a great reason to get out and move\, bring hope and help to others in need\, and ride in memory of loved ones.\nDETAILS: \nRegistration: Event registration options include individual and team sign up\, including fundraising pages to help raise money for this important cause.\nhttps://donate.knowresolve.org/ride2019 \nLocation: Start and end at Capital Banquet Center\, 12350 31 Mile Rd.\, Washington\, MI 48095 \nStart Time: Registration and raffle ticket sales will open at 8:00am. Bicycle riders will depart at 9:00am. Beginning at 11:30 we will have lunch\, raffle prize drawings\, and our special guest speaker. \nDistance: Route is 15 miles out and 15 miles back\, on mostly flat asphalt paved trail. Riders can do the entire route\, or turn back at any point and return to event location. \nWhat to bring: bicycle in good working order\, bike helmet (mandatory)\, identification\, and cash for raffle prize and 50/50 tickets. \nIncludes: Registration fee includes a moisture wicking performance shirt with 2019 design\, one raffle ticket for a chance to win a cool prize\, a delicious buffet lunch\, entertaining and educational presentation by Anthony Grupido\, and most importantly support for local suicide prevention and crisis intervention programs. Must register by August 1\, 2019 to receive event shirt. \nCancellation: This event occurs rain or shine. Registration fees are non-refundable. \nView the FB event for more details: https://www.facebook.com/events/359444391539253/
URL:https://commongroundhelps.org/event/ride-2-end-suicide/
LOCATION:Capital Banquet Center\, 12350 31 Mile Road\, Washington\, MI\, 48095\, United States
CATEGORIES:events
END:VEVENT
BEGIN:VEVENT
DTSTART;TZID=UTC:20190826T070000
DTEND;TZID=UTC:20190826T080000
DTSTAMP:20260422T081149
CREATED:20230828T185039Z
LAST-MODIFIED:20250818T195045Z
UID:8258-1566802800-1566806400@commongroundhelps.org
SUMMARY:Yoga By The Lake
DESCRIPTION:ALL levels Gentle Yoga!!!!!! \nLed by Chela Yoga LLC teachers at L.A.Cafe on 5815 Dixie Hwy\, Waterford MI\, on August 26th\, 7-8pm. This is sure to be an amazing and relaxing event. Each class will be a donation based class (suggested donation of $10.00) with all proceeds going straight to Common Ground. \nPlease invite your friends and family\, share on social media and at your work place\, so together we can spread the word! \nSee Facebook event for details
URL:https://commongroundhelps.org/event/yoga-by-the-lake/
LOCATION:LA CAFE\, 5815 Dixie Hwy\, Waterford
CATEGORIES:events
END:VEVENT
BEGIN:VEVENT
DTSTART;TZID=UTC:20190817T100000
DTEND;TZID=UTC:20190817T170000
DTSTAMP:20260422T081149
CREATED:20230828T185053Z
LAST-MODIFIED:20250819T054047Z
UID:8264-1566036000-1566061200@commongroundhelps.org
SUMMARY:Ride for Suicide Prevention
DESCRIPTION:Riders are $20 (includes entry)\nPassengers are $15 (includes entry) \nDoor entry is $10 \nCars and trucks welcome! \nRegistration begins at 10am until 11am \nKickstands up at 11:30am\, last bike in by 5pm. \nDinner\, live entertainment and auctions following the ride. \nPROCEEDS WILL GO TO COMMON GROUND! \nAddress: Orion/Oxford Eagles \n317 W Clarkston Rd \nLake Orion\, MI
URL:https://commongroundhelps.org/event/ride-for-suicide-prevention/
CATEGORIES:events
END:VEVENT
BEGIN:VEVENT
DTSTART;TZID=UTC:20190804T170000
DTEND;TZID=UTC:20190804T190000
DTSTAMP:20260422T081149
CREATED:20230828T185039Z
LAST-MODIFIED:20250819T053658Z
UID:8259-1564938000-1564945200@commongroundhelps.org
SUMMARY:An Evening of Laughs - A Fundraiser for Common Ground (Night 1)
DESCRIPTION:Common Ground is a 24-hour crisis services agency that has been helping people in need for over 45 years. Dedicated to helping runaway and homeless youth\, victims of crime\, people with mental illness\, adults\, and others in critical situations\, Common Ground has been a lifeline for Oakland and Genesee County residents. \nMetro Detroit lmprov is a group of local improv actors who hail from all over Southeast Michigan\, who enjoy performing short form improv and making others laugh! \nTickets are $15 and approximately 75% of ticket proceeds will be donated directly to Common Ground. \nTickets must be purchased in advance as seats are limited! \nPayment methods:\n⇒ Paypal: paypal.me/MetroDetroitlmprov\n⇒ Google Pay: metrodetroitimprov@gmail.com \nSend us an email to verify availability of tickets for both show dates! If you cannot attend the performance but wish to make a donation to Common Ground\, you can donate using either meth­od above\, be sure to indicate you are donating only and not at­tending. \nTime/Location:\nSunday\, August 4th\n5:00 PM\nAt Space 2435 on University of Michigan’s North Quad campus in Ann Arbor\n(Space 2435 provided courtesy of North Quad Programming) \nP.S.\nIf you cannot make this fundraiser\, there will be a second date on September 13th in Royal Oak! See information below.\nTime/Location:\nFriday\, September 13th\n7pm\nUnity Church\n2500 Crooks Rd\, Royal Oak\, Michigan 48073 \nVisit the Facebook event for more details: https://www.facebook.com/events/1087069881489289/ 
URL:https://commongroundhelps.org/event/an-evening-of-laughs-a-fundraiser-for-common-ground-night-1/
LOCATION:Space 2435\, 105 S State St\, Ann Arbor\, 48109
CATEGORIES:events
ORGANIZER;CN="Metro Detroit Improv":MAILTO:metrodetroitimprov@gmail.com
END:VEVENT
BEGIN:VEVENT
DTSTART;TZID=UTC:20190724T180000
DTEND;TZID=UTC:20190724T203000
DTSTAMP:20260422T081149
CREATED:20230828T185053Z
LAST-MODIFIED:20250818T200830Z
UID:8261-1563991200-1564000200@commongroundhelps.org
SUMMARY:Pop Up Clothes Swap by Zupac Life
DESCRIPTION:Are you ready to clean out your closet and swap your old stuff for new stuff? Here’s your chance!Zupac Life is hosting our first CLOTHING SWAP till you drop! \n**Please bring 1 bag of seasonal clothing/accessories (mens or womens) \nThere will be other vendors including local artists\, vegan desserts by Safflower Street\, smoothies Pretty Detox …and more! \nMini Tarot Card readings will be available for purchase in a private room! \nAppetizers and refreshments will be provided. \nDoors open at 6pm! Join us early to mingle and meet new people\, check out our vendors\, maybe even enjoy a tarot reading… \nRaffle tickets will be sold at the door for prizes.\nPlease arrive by 7:45pm to participate in the swap!\nYou will be turned loose to grab items at 8pm! \nWe’re happy to share that a portion of our proceeds will be donated to Common Ground – a non-profit organization dedicated to helping runaway and homeless youth\, victims of crime\, people with mental illness\, adults\, and anyone in a critical situation. They have several safe haven locations in Oakland County\, in addition to a 24/7 crisis help hotline and messaging service! They’re an amazing group who have helped many people in need. More information about this organization will be provided at our event! \nEntrance fee at the door:\n$5\nOR 2 items from Common Ground’s wish list below! \nWish List items specifically asked for by Common Ground:\nCombs/hairbrushes\nShea moisture products\nCoconut oil/lotion\nBar soap/body wash\nShampoo/conditioner (for any/all ethnicities)\nDeodorant\nPersonal hygiene products (pads/tampons)\nToilet paper/paper towel\nLaundry soap\nDish soap/dishwasher soap\nCleaning supplies\nGarbage bags\nRadio alarm clocks \nVisit the Facebook event for more details
URL:https://commongroundhelps.org/event/pop-up-clothes-swap-by-zupac-life/
LOCATION:Zupac Law\, 1719 Crooks Road\, Royal Oak\, 48067
CATEGORIES:events
END:VEVENT
BEGIN:VEVENT
DTSTART;TZID=UTC:20190628T193000
DTEND;TZID=UTC:20190628T220000
DTSTAMP:20260422T081149
CREATED:20230828T185039Z
LAST-MODIFIED:20231017T145931Z
UID:8255-1561750200-1561759200@commongroundhelps.org
SUMMARY:OCFC's Common Ground's Night Out!
DESCRIPTION:Come watch the highest level of soccer in the area while enjoying all the game festivities! There will be a variety of food\, a Kid Zone with activities and a chance to support a great cause. \nFor each member that buys a ticket online with the promo code PURPLEGROUND – $2 will be donated from Oakland County Football Club (OCFC) to Common Ground. Common Ground is a 24-hour crisis services agency dedicated to helping youths\, adults\, and families in crisis. \nIn addition\, each member that buys a ticket online with the promo code (PURPLEGROUND) for the event will have a $1 discount from the original online ticket price. \nOCFC vs. Michigan Jaguars\nClawson Stadium\n935 N Custer Avenue\nClawson\, Michigan \nKick-off time is at 7:30.
URL:https://commongroundhelps.org/event/ocfcs-common-grounds-night-out/
CATEGORIES:events
END:VEVENT
BEGIN:VEVENT
DTSTART;TZID=UTC:20190617T190000
DTEND;TZID=UTC:20190617T210000
DTSTAMP:20260422T081149
CREATED:20230828T185039Z
LAST-MODIFIED:20230829T001914Z
UID:8256-1560798000-1560805200@commongroundhelps.org
SUMMARY:Survivors of Suicide Loss Support Group
DESCRIPTION:This support group meets on the 1st & 3rd Monday of the month. Support group will not be held during July (summer break) or holidays.\nDates: 5/6\, 5/20\, 6/3\, 6/17 \nTime:\n7:00pm – 9:00pm \nLocation:\nResource and Crisis Center\n1200 N. Telegraph Rd.\nBuilding 32E\nPontiac MI\, 48341 \nAbout:\n– Outreach\, support and information provided to those who have lost a loved one to suicide\n– Comfort\, strength and hope in an open group setting with fellow survivors and trained peer facilitators\n– No cost for attendees\n– Mature material; children welcome. \nFor more information or to register for this free support group\, contact the Resource and Crisis Helpline at 1.800.231.1127. \nIf you’re experiencing a crisis\, please reach out to our 24-hour Crisis Telephone & Text Line number at 800-231-1127\, or visit our 24-hour Crisis Chat Line at commongroundhelps.org.
URL:https://commongroundhelps.org/event/survivors-of-suicide-loss-support-group/
CATEGORIES:events
END:VEVENT
BEGIN:VEVENT
DTSTART;TZID=UTC:20190504T100000
DTEND;TZID=UTC:20190504T130000
DTSTAMP:20260422T081149
CREATED:20230828T185038Z
LAST-MODIFIED:20230828T185440Z
UID:8252-1556964000-1556974800@commongroundhelps.org
SUMMARY:14th Annual MOM 5K Race for Mental Health Awareness & Suicide Prevention
DESCRIPTION:Has your life been touched by mental illness or suicide? Are you looking to connect with others to help erase the stigma\, or just participate in a local 5K for a good cause? If so\, please join us on Saturday\, May 4 in Royal Oak for the 14th Annual MOM Race for Mental Health Awareness and Suicide Prevention. The 5K run/walk starts at 10 AM from Starr Jaycee Park and takes place in the beautiful Vinsetta neighborhoods between 12 Mile and Main St. The MOM Race is a USATF-certified 5K featuring age group awards\, a team challenge competition\, fundraising opportunities\, raffle prizes\, plentiful refreshments\, live music and more! MOM Race proceeds benefit brain research at The University of Michigan Depression Center\, suicide prevention programming by KnowResolve\, and crisis intervention services provided by Common Ground. A portion of the 2019 funds will also be used to modernize momrace.org and restart the Royal Oak SAFE suicide prevention taskforce. \nVisit here to register.
URL:https://commongroundhelps.org/event/14th-annual-mom-5k-race-for-mental-health-awareness-suicide-prevention/
CATEGORIES:events
END:VEVENT
BEGIN:VEVENT
DTSTART;TZID=UTC:20190427T110000
DTEND;TZID=UTC:20190427T130000
DTSTAMP:20260422T081149
CREATED:20230828T185023Z
LAST-MODIFIED:20230828T185440Z
UID:8251-1556362800-1556370000@commongroundhelps.org
SUMMARY:Volunteer Screening
DESCRIPTION:Have you ever wanted to help make a difference – to be the one – but didn’t know how? We’ve been looking for you! We are currently seeking amazing people like yourself to volunteer on Common Ground’s Resource and Crisis Helpline assisting others move from Crisis to Hope via phone\, chat and text. \nThe next screening date is:\nSaturday\, April 27th\n11am-1pm \nThe screening will take place at\n1200 Telegraph Rd\nBuilding 32E\nPontiac\, MI 48341 \nFor more information visit commongroundhelps.org or e-mail Melissa Bowman at mbowman@cghelps.org.
URL:https://commongroundhelps.org/event/volunteer-screening/
END:VEVENT
BEGIN:VEVENT
DTSTART;TZID=UTC:20190418T170000
DTEND;TZID=UTC:20190418T220000
DTSTAMP:20260422T081149
CREATED:20230828T185023Z
LAST-MODIFIED:20250819T052508Z
UID:8250-1555606800-1555624800@commongroundhelps.org
SUMMARY:Live Trivia Night!
DESCRIPTION:Join us on Thursday\, April 18th\, from 5pm-10pm for a Live Trivia Night  to benefit Common Ground at the Great Lakes Culinary Center in Southfield! \nTickets $20 in advance\, $25 at the door. Includes 2 rounds of live trivia\, “Snack Attack Bar”\, Soft Drinks. Cash Bar. All welcome! 50/50 raffle and other prizes too! \nVisit the Eventbrite here to register!
URL:https://commongroundhelps.org/event/live-trivia-night/
END:VEVENT
BEGIN:VEVENT
DTSTART;TZID=UTC:20190326T080000
DTEND;TZID=UTC:20190326T160000
DTSTAMP:20260422T081149
CREATED:20230828T185023Z
LAST-MODIFIED:20250819T022100Z
UID:8249-1553587200-1553616000@commongroundhelps.org
SUMMARY:BREAKING THE CYCLE: Solutions to End The Opioid Crisis
DESCRIPTION:Access multidisciplinary SOLUTIONS to the greatest drug crisis this country has ever seen. Please join nationally recognized speaker and former judge Jodi Debbrecht Switalski\, and a compendium of other experts including representatives from psychiatry\, recovery\, medical\, law enforcement/criminal justice\, substance-use disorder specialists and more. Topics include systems change in the school\, community\, therapeutic justice initiatives\, understanding the impact and outcomes that work. You will be inspired. You will be more than informed on best practices\, evidence-based research and proven systems of change. Most important\, you will leave with concrete steps so that each of us\, in all walks of life\, personally\, professionally\, in our communities\, churches\, workplaces and more\, can truly impact this growing crisis – maybe even save a life. Together\, we truly can “Be the Change\,” but we must all “Do Something.” \nThis is a free event but registration is required. \nVisit the Oakland County Medical Examiner’s Website for additional information here. \nTo register\, visit Eventbrite here: https://www.eventbrite.com/e/breaking-the-cycle-solutions-to-end-the-opioid-crisis-tickets-57102397809  \nDate And Time\n\nTue\, March 26\, 2019 \n8:00 AM – 4:00 PM EDT \n\nLocation\n\nWMU-Cooley Law School \n2630 Featherstone Road \nAuburn Hills\, MI 48326
URL:https://commongroundhelps.org/event/breaking-the-cycle-solutions-to-end-the-opioid-crisis/
END:VEVENT
BEGIN:VEVENT
DTSTART;TZID=UTC:20190319T190000
DTEND;TZID=UTC:20190319T200000
DTSTAMP:20260422T081149
CREATED:20230828T185022Z
LAST-MODIFIED:20230829T002249Z
UID:8246-1553022000-1553025600@commongroundhelps.org
SUMMARY:RCH Volunteer Screening Dates
DESCRIPTION:Have you ever wanted to help make a difference – to be the one – but didn’t know how? We’ve been looking for you! We are currently seeking amazing people like yourself to volunteer on Common Ground’s Resource and Crisis Helpline assisting others move from Crisis to Hope via phone\, chat and text.\n\nHere are the following screening dates:\n\nTuesday\, March 19th\n7:00PM\n\nThe screening will take place at\n1200 Telegraph Rd\nBuilding 32E\nPontiac\, MI 48341\n\nFor more information visit commongroundhelps.org or e-mail Melissa Bowman at mbowman@cghelps.org.
URL:https://commongroundhelps.org/event/rch-volunteer-screening-dates-3/
LOCATION:resource and crisis center\, 1200 Telegraph Rd\, Waterford\, MI\, 48327\, United States
END:VEVENT
BEGIN:VEVENT
DTSTART;TZID=UTC:20190220T110000
DTEND;TZID=UTC:20190220T120000
DTSTAMP:20260422T081149
CREATED:20230828T185022Z
LAST-MODIFIED:20230829T002604Z
UID:8245-1550660400-1550664000@commongroundhelps.org
SUMMARY:RCH Volunteer Screening Dates
DESCRIPTION:Have you ever wanted to help make a difference – to be the one – but didn’t know how? We’ve been looking for you! We are currently seeking amazing people like yourself to volunteer on Common Ground’s Resource and Crisis Helpline assisting others move from Crisis to Hope via phone\, chat and text.\n\nHere are the following screening dates:\n\nWednesday\, February 20th\n11:00 am\n\nThe screening will take place at\n1200 Telegraph Rd\nBuilding 32E\nPontiac\, MI 48341\n\nFor more information visit commongroundhelps.org or e-mail Melissa Bowman at mbowman@cghelps.org.
URL:https://commongroundhelps.org/event/rch-volunteer-screening-dates-2/
LOCATION:Royal Oak Historical Society Museum\, 1411 W Webster Rd\, Royal Oka\, MI\, 48073\, United States
END:VEVENT
BEGIN:VEVENT
DTSTART;TZID=UTC:20190108T190000
DTEND;TZID=UTC:20190108T200000
DTSTAMP:20260422T081149
CREATED:20230828T184951Z
LAST-MODIFIED:20230829T002658Z
UID:8234-1546974000-1546977600@commongroundhelps.org
SUMMARY:RCH Volunteer Screening Dates
DESCRIPTION:Have you ever wanted to help make a difference – to be the one – but didn’t know how? We’ve been looking for you! We are currently seeking amazing people like yourself to volunteer on Common Ground’s Resource and Crisis Helpline assisting others move from Crisis to Hope via phone\, chat and text.\n\nThe next screening date is:\n\nTuesday\, January 8th\n7:00 pm\n\nThe screening will take place at\n1200 Telegraph Rd\nBuilding 32E\nPontiac\, MI 48341\n\nFor more information visit commongroundhelps.org or e-mail Melissa Bowman at mbowman@cghelps.org.
URL:https://commongroundhelps.org/event/rch-volunteer-screening-dates/
LOCATION:resource and crisis center\, 1200 Telegraph Rd\, Waterford\, MI\, 48327\, United States
END:VEVENT
BEGIN:VEVENT
DTSTART;VALUE=DATE:20181221
DTEND;VALUE=DATE:20190401
DTSTAMP:20260422T081149
CREATED:20230828T185022Z
LAST-MODIFIED:20250819T060002Z
UID:8243-1545350400-1554076799@commongroundhelps.org
SUMMARY:Winter session support groups
DESCRIPTION:Domestic Violence Support Group: View flyer here. \nVictims of Homicide Support Group: View flyer here. \nSurvivors of Suicide Loss Support Group: View flyer here.
URL:https://commongroundhelps.org/event/winter-session-support-groups/
END:VEVENT
BEGIN:VEVENT
DTSTART;TZID=UTC:20181117T090000
DTEND;TZID=UTC:20181117T130000
DTSTAMP:20260422T081149
CREATED:20230828T184950Z
LAST-MODIFIED:20250819T040328Z
UID:8230-1542445200-1542459600@commongroundhelps.org
SUMMARY:Survivor Day
DESCRIPTION:Survivor Day is the one day a year when people affected by suicide loss gather around the world at events in their local communities to find comfort and gain understanding as they share stories of healing and hope. \nThe event will include food and beverages\, guest speakers\, an art therapy activity\, break-out sessions and an opportunity to connect and heal with others. \nVisit the ticket link for more details and to register today. This event is free of charge. \nAgenda will be available soon!
URL:https://commongroundhelps.org/event/survivor-day/
LOCATION:Kirk in the Hills\, 1340 W Long Lake Rd\, Bloomfield Hills\, MI\, 48302\, United States
ATTACH;FMTTYPE=image/jpeg:https://commongroundhelps.org/wp-content/uploads/2023/08/43713008_2425191790831204_8156568101161271296_n-skVUsI.tmp_.jpg
ORGANIZER;CN="Common Ground":MAILTO:development@cghelps.org
END:VEVENT
BEGIN:VEVENT
DTSTART;TZID=UTC:20181113T183000
DTEND;TZID=UTC:20181113T203000
DTSTAMP:20260422T081149
CREATED:20230828T184950Z
LAST-MODIFIED:20250813T192845Z
UID:8232-1542133800-1542141000@commongroundhelps.org
SUMMARY:Self-Harm and Suicide Prevention Seminar
DESCRIPTION:Waterford Youth Assistance’s Family and Youth Education Committee hosts Self-Harm and Suicide Prevention Seminar. \nSuicide is the second leading cause of death for young people between 10 to 24. Guest speaker Erin Spankowski\, a staff member at Common Ground is currently a Victim’s Advocate and has worked as the chat and text coordinator of the Resource and Crisis Helpline which has given her extensive knowledge and experiences in suicide prevention and intervention. Parents and students will learn the difference between self-harm and suicide\, the warning signs and how parents can help and support their child. \nThis is a free event! \nResource tables will be available beginning at 6:00 p.m.
URL:https://commongroundhelps.org/event/self-harm-and-suicide-prevention-seminar/
LOCATION:Waterford Mott High School\, 1151 Scott Lake Road\, Waterford\, 48328
CATEGORIES:events
ATTACH;FMTTYPE=image/jpeg:https://commongroundhelps.org/wp-content/uploads/2023/08/44247891_2387183967961936_7353279001990791168_n-fdkRp8.tmp_.jpg
END:VEVENT
BEGIN:VEVENT
DTSTART;TZID=UTC:20181029T173000
DTEND;TZID=UTC:20181029T203000
DTSTAMP:20260422T081149
CREATED:20230828T184946Z
LAST-MODIFIED:20250819T042539Z
UID:8228-1540834200-1540845000@commongroundhelps.org
SUMMARY:Teen Awareness Event - "Suicide: The Ripple Effect"
DESCRIPTION:  \nJoin Common Ground and the Alliance of Coalitions for Healthy Communities for a free dinner and movie screening of “Suicide: The Ripple Effect” on Oct. 29\, 2018 from 5:30 pm to 8:30 pm at the Royal Oak Library. Youth voices will discuss mental health and attendees will have the opportunity to learn how to help a friend in crisis. \nRegister here
URL:https://commongroundhelps.org/event/teen-awareness-event-suicide-the-ripple-effect/
LOCATION:Royal Oak Library\, 222 E Eleven Mile Rd\, Royal Oak\, 48067\, United States
CATEGORIES:events
ATTACH;FMTTYPE=image/jpeg:https://commongroundhelps.org/wp-content/uploads/2023/08/cd06a029409017e5083362ccdc6d8e5c-sPtXCp.tmp_.jpg
END:VEVENT
BEGIN:VEVENT
DTSTART;TZID=UTC:20180915T100000
DTEND;TZID=UTC:20180916T170000
DTSTAMP:20260422T081149
CREATED:20230828T184944Z
LAST-MODIFIED:20250819T043109Z
UID:8226-1537005600-1537117200@commongroundhelps.org
SUMMARY:Common Ground Birmingham Street Art Fair
DESCRIPTION:Common Ground’s Birmingham Street Art Fair celebrates it’s 44th year in a new location around Shain Park in Downtown Birmingham\, MI. This show features 150 jury selected artists and benefits the amazing work of Common Ground. You can further benefit this organization by bidding on work found in the Common Ground Auction Tent. There will be Kid’s Art Activities\, an Emerging Artist Tent and some great food! Join us as the end of the Art Fair season rolls in! \nVisit this link here to learn more: https://www.facebook.com/events/2129237760736701/ 
URL:https://commongroundhelps.org/event/common-ground-birmingham-street-art-fair/
ATTACH;FMTTYPE=image/jpeg:https://commongroundhelps.org/wp-content/uploads/2023/08/2018-CGAF-Pcard-Cropped-ZYNdcB.tmp_.jpg
END:VEVENT
BEGIN:VEVENT
DTSTART;TZID=UTC:20180831T080000
DTEND;TZID=UTC:20180831T170000
DTSTAMP:20260422T081149
CREATED:20230828T184943Z
LAST-MODIFIED:20230828T185455Z
UID:8225-1535702400-1535734800@commongroundhelps.org
SUMMARY:Table Tennis Mental Health
DESCRIPTION:Mental Health \nKids \nTennis \nBaseball
URL:https://commongroundhelps.org/event/table-tennis-mental-health/
END:VEVENT
BEGIN:VEVENT
DTSTART;TZID=UTC:20180710T080000
DTEND;TZID=UTC:20180710T170000
DTSTAMP:20260422T081149
CREATED:20230828T184941Z
LAST-MODIFIED:20230828T185455Z
UID:8224-1531209600-1531242000@commongroundhelps.org
SUMMARY:Mental Health First Aid
DESCRIPTION:Birthday Event Mental Health First Aid
URL:https://commongroundhelps.org/event/mental-health-first-aid/
END:VEVENT
BEGIN:VEVENT
DTSTART;TZID=UTC:20180525T080000
DTEND;TZID=UTC:20180525T170000
DTSTAMP:20260422T081149
CREATED:20230828T184939Z
LAST-MODIFIED:20230828T185455Z
UID:8223-1527235200-1527267600@commongroundhelps.org
SUMMARY:TestEvent
DESCRIPTION:This is an event
URL:https://commongroundhelps.org/event/testevent/
END:VEVENT
END:VCALENDAR